BEGIN:VCALENDAR
VERSION:2.0
PRODID:-//Leeds for Change - ECPv4.6.15//NONSGML v1.0//EN
CALSCALE:GREGORIAN
METHOD:PUBLISH
X-WR-CALNAME:Leeds for Change
X-ORIGINAL-URL:https://leedsforchange.org.uk
X-WR-CALDESC:Events for Leeds for Change
BEGIN:VEVENT
DTSTART;TZID=UTC+0:20190210T130000
DTEND;TZID=UTC+0:20190210T150000
DTSTAMP:20260421T090929
CREATED:20190202T162137Z
LAST-MODIFIED:20190202T162138Z
UID:12463-1549803600-1549810800@leedsforchange.org.uk
SUMMARY:Germinar #7: Education
DESCRIPTION:A germinar is a space of collective learning\, fun\, and repose. It has no learning outcomes\, no requirements\, no teachers\, and no curriculum. Instead\, we aim to create a collective that is self-run and self-taught\, that looks at austerity\, the neoliberal university\, and immigration policies in the UK in the context of queer lives and queer theory. \nWe intend to create a space that is open and unstructured for people to come share ideas and intervene without the stress and the labor of organising\, while still reflecting on the realities of our lives\, our city\, and our futures. We will avoid producing more politics at all costs. \n+++ \nWhat’s education? In this session we’ll think about the practice of study outside of academia\, self-education and class composition\, and Jewish pedagogy. It’ll be a great starting point for both old faces and newcomers to talk about what we’d like our germinars to be. \nA short collection of readings are available\, ready to download\, read aloud\, print or leave on a bus seat: \nDropbox Link: https://www.dropbox.com/s/0yjq4jax7fs…/GermBookletStudy.pdf… \nDropbox Link to the A5 version: https://www.dropbox.com/s/…/GermBookletStudy_PrintReady.pdf… \nAs always\, the readings are not a condition for anyone to come\, no preparation is required to take part in a germinar. There will be snacks\, tea and coffee. A suggested donation of £2 is welcome to cover venue hire. \n+++ \nOur venue Aire Place Studios is wheelchair accessible\, has gender-neutral toilets\, and is dedicated to fulfilling all other access and safety needs – please let us know if you have any questions or needs via the event link. \n
URL:https://leedsforchange.org.uk/event/germinar-7-education/
LOCATION:Unit 2C\, Aire Place\, Kirkstall Road\, Leeds\, LS3 1JL
GEO:53.8022079;-1.5714158
X-APPLE-STRUCTURED-LOCATION;VALUE=URI;X-ADDRESS=Unit 2C Aire Place Kirkstall Road Leeds LS3 1JL;X-APPLE-RADIUS=500;X-TITLE=Unit 2C\, Aire Place\, Kirkstall Road:geo:-1.5714158,53.8022079
ATTACH;FMTTYPE=image/jpeg:https://leedsforchange.org.uk/assets/uploads/2019/02/germinar.jpg
END:VEVENT
END:VCALENDAR