BEGIN:VCALENDAR
VERSION:2.0
PRODID:-//Leeds for Change - ECPv4.6.15//NONSGML v1.0//EN
CALSCALE:GREGORIAN
METHOD:PUBLISH
X-WR-CALNAME:Leeds for Change
X-ORIGINAL-URL:https://leedsforchange.org.uk
X-WR-CALDESC:Events for Leeds for Change
BEGIN:VEVENT
DTSTART;TZID=UTC+0:20181214T190000
DTEND;TZID=UTC+0:20181214T230000
DTSTAMP:20260421T194623
CREATED:20181126T143311Z
LAST-MODIFIED:20181126T143311Z
UID:11275-1544814000-1544828400@leedsforchange.org.uk
SUMMARY:Free Cheers for Queers
DESCRIPTION:A night of FREE FESTIVE FUN with LQFF for QFN’s Gay as in Hysterically Funny tour\, part of BFI Comedy Genius. \n7:00pm DYKE HARD FILM SCREENING\nA lesbian rock band sets off on a road trip to a battle of the bands in the big city. A mysterious billionaire with an army of ninjas\, cyborgs and roller derby girls is doing everything to stop them. Their journey is a wacky adventure filled with motorcycle gangs\, prison riots and flamboyant musical numbers. \n***** Film will be screened with English subtitles for D/deaf and Hard of Hearing audiences. ***** \n?9:00pm MESSY QUEER GAME SHOW\nShit prizes and lots of laughs hosted by SamOne & SamTwo \n***** BSL Interpreted ***** \nFREE ENTRY – NO TICKETS NEEDED – JUST TURN UP! \n
URL:https://leedsforchange.org.uk/event/free-cheers-for-queers/
ATTACH;FMTTYPE=image/jpeg:https://leedsforchange.org.uk/assets/uploads/2018/11/Queer.jpg
END:VEVENT
END:VCALENDAR