BEGIN:VCALENDAR
VERSION:2.0
PRODID:-//Leeds for Change - ECPv4.6.15//NONSGML v1.0//EN
CALSCALE:GREGORIAN
METHOD:PUBLISH
X-WR-CALNAME:Leeds for Change
X-ORIGINAL-URL:https://leedsforchange.org.uk
X-WR-CALDESC:Events for Leeds for Change
BEGIN:VEVENT
DTSTART;TZID=UTC+0:20171127T190000
DTEND;TZID=UTC+0:20171127T210000
DTSTAMP:20260422T232350
CREATED:20171124T104441Z
LAST-MODIFIED:20171124T104441Z
UID:7267-1511809200-1511816400@leedsforchange.org.uk
SUMMARY:Frack Free Leeds business and strategy meeting
DESCRIPTION:As things on the fracking frontline are hotting up we need all hands on the pump to help us push things forward. Please join us to discuss business and work out future plans. All welcome. New faces and fresh ideas are very welcome! \n
URL:https://leedsforchange.org.uk/event/frack-free-leeds-business-and-strategy-meeting/
LOCATION:67-69 Great George St\, Leeds\, LS1 3BB\, United Kingdom
GEO:53.80094;-1.5512327
X-APPLE-STRUCTURED-LOCATION;VALUE=URI;X-ADDRESS=67-69 Great George St Leeds LS1 3BB United Kingdom;X-APPLE-RADIUS=500;X-TITLE=67-69 Great George St:geo:-1.5512327,53.80094
ATTACH;FMTTYPE=image/jpeg:https://leedsforchange.org.uk/assets/uploads/2017/11/facebook_event_149862849077357.jpg
END:VEVENT
END:VCALENDAR