BEGIN:VCALENDAR
VERSION:2.0
PRODID:-//Leeds for Change - ECPv4.6.15//NONSGML v1.0//EN
CALSCALE:GREGORIAN
METHOD:PUBLISH
X-WR-CALNAME:Leeds for Change
X-ORIGINAL-URL:https://leedsforchange.org.uk
X-WR-CALDESC:Events for Leeds for Change
BEGIN:VEVENT
DTSTART;TZID=UTC+0:20190316T193000
DTEND;TZID=UTC+0:20190413T210000
DTSTAMP:20260420T230949
CREATED:20190216T231236Z
LAST-MODIFIED:20190225T043746Z
UID:12688-1552764600-1555185600@leedsforchange.org.uk
SUMMARY:For Colored Girls - UK tour (Leeds)
DESCRIPTION:‘For Colored Girls Who Have Considered Suicide When The Rainbow Was Enough’ Is back by popular demand due to incredible reviews. In honour of the late Ntozake Shange the writer ‘FCG’ who passed away this past October.GAP Entertainment will be taking this inspirational production on a UK wide Memorial tour. \n‘For Colored Girls’ is a life changing collection of vivid prose and free verse narratives about and performed by Black women. Capturing the brutal\, tender and dramatic lives of contemporary Black women\, For Colored Girls… offers a transformative\, riveting evening of hard hitting drama\, dance\, music and poetry. \nThis play is not suitable for Children Under 13. \nWritten by Ntozake Shange\, Adapted & Produced by Sadé Davis \, Directed by Sadé Davis & Laura Autumn Rai \nCast: Janae Vito\, Pre Krystle\, Chereis Sewell\, Sadé Davis\, Laura Autumn Rai\, Tembi\, Serena Laidely\, Charm Edwards\, Beverley March\, Millicent Francis\,Chris Edwards & Ethan Francis \ntickets start at £8 and are available at www.forcoloredgirlsuktour.eventbrite.co.uk \n
URL:https://leedsforchange.org.uk/event/for-colored-girls-uk-tour-leeds/
LOCATION:31A Harrogate Road\, Leeds\, LS7 3PD\, United Kingdom
GEO:53.8278011;-1.537324
X-APPLE-STRUCTURED-LOCATION;VALUE=URI;X-ADDRESS=31A Harrogate Road Leeds LS7 3PD United Kingdom;X-APPLE-RADIUS=500;X-TITLE=31A Harrogate Road:geo:-1.537324,53.8278011
ATTACH;FMTTYPE=image/jpeg:https://leedsforchange.org.uk/assets/uploads/2019/02/coloured-rainbow.jpg
END:VEVENT
END:VCALENDAR