BEGIN:VCALENDAR
VERSION:2.0
PRODID:-//Leeds for Change - ECPv4.6.15//NONSGML v1.0//EN
CALSCALE:GREGORIAN
METHOD:PUBLISH
X-WR-CALNAME:Leeds for Change
X-ORIGINAL-URL:https://leedsforchange.org.uk
X-WR-CALDESC:Events for Leeds for Change
BEGIN:VEVENT
DTSTART;TZID=UTC+0:20171124T190000
DTEND;TZID=UTC+0:20171124T220000
DTSTAMP:20260423T092006
CREATED:20171124T193820Z
LAST-MODIFIED:20171124T193820Z
UID:7282-1511550000-1511560800@leedsforchange.org.uk
SUMMARY:Festive Angel
DESCRIPTION:‘Young or old\, loneliness doesn’t discriminate… it is something many of us could easily help with.’\nFestive Angel will work to address the impact loneliness has on so many different sections of society. It will focus on the positive action we can all take to recognise it\, build connections and help ourselves and/or others. \nThe Project aims not simply to highlight the problem\, but more importantly to act as a “call to action”. With the message ‘Start a Conversation’\, the Festive Angel aims to try to get people talking at all levels – whether chatting to a neighbour\, visiting an old friend\, or just making time for the people they meet. \nWe would Love support to make this project successful if you own a business or known someone whom owns one and employer organisations and are insterested at what action local we all can take to combat loneliness during the holidays.\nWe would love your support and donation to help the make a different in our city. \nOur objectives is to get people\, who may not usually have companions at Christmas\, to congregate and share food\, celebratory performance and Humans of Leeds exhibition to combat loneliness around the festive season. We aim to secured donations of presents and food from local shops and restaurants and are looking to use the space to bring people together intergenerational\, to celebrate Christmas who may otherwise spend it alone. \nAngels of Youths is a youth led small charity that aims to give disadvantaged and marginalised young people a voice & influence in their community and the opportunity to challenge inequalities by creating\, social action projects around their passion building on their life skills. \nWe are working in partnership with Boom Chikka Boom to create amazing Christmas games and entertainment.   \nThe Real Junk Food Project Leeds to provide amazing food on a #PAYF basis w/ prepared meals and produce to take home \nThe corn exchange has been generous to give us the amazing venue for free to help with this social action. \nWith amazing young people from Norte Dame sixth form\, Leeds city College\, Roundhay sixth form and Angel of youths are project managing this event  \nContact me if you want to help or get involved \n
URL:https://leedsforchange.org.uk/event/festive-angel/
LOCATION:2nd Floor 20 New Market Street\, Leeds\, LS1 6DG\, United Kingdom
GEO:53.7962182;-1.5410671
X-APPLE-STRUCTURED-LOCATION;VALUE=URI;X-ADDRESS=2nd Floor 20 New Market Street Leeds LS1 6DG United Kingdom;X-APPLE-RADIUS=500;X-TITLE=2nd Floor 20 New Market Street:geo:-1.5410671,53.7962182
ATTACH;FMTTYPE=image/jpeg:https://leedsforchange.org.uk/assets/uploads/2017/11/facebook_event_335237993606928.jpg
END:VEVENT
END:VCALENDAR