BEGIN:VCALENDAR
VERSION:2.0
PRODID:-//Leeds for Change - ECPv4.6.15//NONSGML v1.0//EN
CALSCALE:GREGORIAN
METHOD:PUBLISH
X-WR-CALNAME:Leeds for Change
X-ORIGINAL-URL:https://leedsforchange.org.uk
X-WR-CALDESC:Events for Leeds for Change
BEGIN:VEVENT
DTSTART;TZID=UTC+0:20180922T103000
DTEND;TZID=UTC+0:20180922T153000
DTSTAMP:20260422T131459
CREATED:20180724T105342Z
LAST-MODIFIED:20180724T105342Z
UID:10093-1537608600-1537626600@leedsforchange.org.uk
SUMMARY:Fairtrade Conference - LEEDS
DESCRIPTION:Hosted by: Fairtrade Foundation \n‘The conferences will be a chance to join local Fairtrade campaigners and supporters for a day of inspiring talks. We’ll be sharing news on Fairtrade\, celebrating campaign successes and discussing how to work together to tackle upcoming challenges. This is an excellent opportunity to meet and connect with other like-minded supporters. \nTickets are FREE but numbers are limited so please make sure you are able to attend on the day. Register now via the link. \nHighlights will include: \nWorkshops\, news and updates from the Fairtrade Foundation – covering changes in Fairtrade labelling to planning for Fairtrade Fortnight 2019 \nAn expert Q&A panel to explore the position of Fairtrade within the wider sustainability movement \nInspiration and ideas from Fairtrade campaigners in your region\nElections for a local representative on the National Campaigner Committee.’ \n
URL:https://leedsforchange.org.uk/event/fairtrade-conference-leeds/
LOCATION:Leeds\, LS2 9\, United Kingdom
GEO:53.8058297;-1.5489028
ATTACH;FMTTYPE=image/jpeg:https://leedsforchange.org.uk/assets/uploads/2018/07/36251556_10160634578510296_4012332270097530880_o.jpg
END:VEVENT
END:VCALENDAR