BEGIN:VCALENDAR
VERSION:2.0
PRODID:-//Leeds for Change - ECPv4.6.15//NONSGML v1.0//EN
CALSCALE:GREGORIAN
METHOD:PUBLISH
X-WR-CALNAME:Leeds for Change
X-ORIGINAL-URL:https://leedsforchange.org.uk
X-WR-CALDESC:Events for Leeds for Change
BEGIN:VEVENT
DTSTART;TZID=UTC+0:20191128T190000
DTEND;TZID=UTC+0:20191128T210000
DTSTAMP:20260425T050117
CREATED:20191119T164854Z
LAST-MODIFIED:20191119T164854Z
UID:15337-1574967600-1574974800@leedsforchange.org.uk
SUMMARY:Facing up to the triple crisis: climate\, ecology and injustice
DESCRIPTION:Our Future Leeds\, in collaboration with Green House Think Tank\, invites you to this discussion and learning event. The evening is aimed at deepening our understanding of\, and strengthening our response to\, the triple crisis that we are facing: the climate emergency\, the ecological emergency and the deep injustices that we are seeing in the UK and globally. \n***Doors 6.30pm\, event start 7.00pm*** \nTickets: https://facing-up-to-the-triple-crisis.eventbrite.co.uk \nThe evening will offer short and exciting talks\, a panel discussion\, and open discussion spaces\, to explore different perspectives around the big challenges of our times. Together with leading thinkers and Leeds activists\, we will discuss what these issues mean to our lives and livelihoods\, and how we can tackle these together in our city. To kick off the discussions\, Anne Chapman and Jonathan Essex from the Green House Think Tank will present key ideas from their recently published book ‘Facing up to climate reality: Honesty\, Disaster\, Hope’ \nGreen House have been at the forefront of thinking on the complex and systemic nature of the climate and ecological crisis for nearly a decade. Their latest book ‘Facing up to Climate Reality’\, provides a bleak account of the climate crisis\, offering a perspective rarely heard in the mainstream debate. The authors propose that by embracing the true reality of environmental breakdown through transformative adaptation\, we may be able to confront the escalating climate chaos whilst not giving up hope. \nThis is our opportunity to debate and discuss various viewpoints and aspects of the triple crisis\, and what this may mean for our lives in Leeds. Join us in exploring Our Future Leeds’ central claim that we need to address the climate and ecological emergencies in tandem with the fundamental injustices of our broken political-economic system. Our mission is to foster alliances across the environmental and social justice movements in Leeds for a joint response to the triple crisis. \nThe speakers will include: \n– Anne Chapman (Green House Think Tank\, Director of LESS Lancaster)\,\n– Jonathan Essex (Green House Think Tank\, Green councillor)\n– Penny Wangari-Jones (Racial & social justice activist\, Director of Racial Justice Network)\n– Julia Steinberger (Professor of Ecological Economics at University of Leeds\, IPCC lead author)\n– Paul Chatterton (Our Future Leeds\, Professor of Sustainable Futures at University of Leeds)\n– Scott Archer-Nicholls (Scientists for XR\, climate scientist at University of Cambridge) \nThe event starts at 7pm with doors from 6.30pm for food\, welcome and networking. \nThe event is free but please register here so we have an idea of numbers! https://facing-up-to-the-triple-crisis.eventbrite.co.uk \nWe hope to see you there for a thought-provoking and engaging evening! \n
URL:https://leedsforchange.org.uk/event/facing-up-to-the-triple-crisis-climate-ecology-and-injustice/
LOCATION:Bridge Street\, Leeds\, LS2 7QZ\, United Kingdom
GEO:53.7995991;-1.5363278
X-APPLE-STRUCTURED-LOCATION;VALUE=URI;X-ADDRESS=Bridge Street Leeds LS2 7QZ United Kingdom;X-APPLE-RADIUS=500;X-TITLE=Bridge Street:geo:-1.5363278,53.7995991
ATTACH;FMTTYPE=image/jpeg:https://leedsforchange.org.uk/assets/uploads/2019/11/75543649_10157636207655498_3485153995478007808_o.jpg
END:VEVENT
END:VCALENDAR