BEGIN:VCALENDAR
VERSION:2.0
PRODID:-//Leeds for Change - ECPv4.6.15//NONSGML v1.0//EN
CALSCALE:GREGORIAN
METHOD:PUBLISH
X-WR-CALNAME:Leeds for Change
X-ORIGINAL-URL:https://leedsforchange.org.uk
X-WR-CALDESC:Events for Leeds for Change
BEGIN:VEVENT
DTSTART;TZID=UTC+0:20200307T100000
DTEND;TZID=UTC+0:20200307T120000
DTSTAMP:20260421T230400
CREATED:20200228T113238Z
LAST-MODIFIED:20200228T113238Z
UID:16388-1583575200-1583582400@leedsforchange.org.uk
SUMMARY:Euro Cafe
DESCRIPTION:Come along to the first Euro Cafe to be held in Leeds. We are open for all EU Citizens and pro-Europeans. Pop in for a coffee\, or one of Pasta Romana’s excellent breakfasts and chat with like minded people in a warm friendly atmosphere. \n
URL:https://leedsforchange.org.uk/event/euro-cafe/
LOCATION:26 Albion Place\, Leeds\, LS1 6JS
GEO:53.7976935;-1.5432822
X-APPLE-STRUCTURED-LOCATION;VALUE=URI;X-ADDRESS=26 Albion Place Leeds LS1 6JS;X-APPLE-RADIUS=500;X-TITLE=26 Albion Place:geo:-1.5432822,53.7976935
ATTACH;FMTTYPE=image/jpeg:https://leedsforchange.org.uk/assets/uploads/2020/02/87160794_1921209188015028_3401786189181616128_o.jpg
END:VEVENT
END:VCALENDAR