BEGIN:VCALENDAR
VERSION:2.0
PRODID:-//Leeds for Change - ECPv4.6.15//NONSGML v1.0//EN
CALSCALE:GREGORIAN
METHOD:PUBLISH
X-WR-CALNAME:Leeds for Change
X-ORIGINAL-URL:https://leedsforchange.org.uk
X-WR-CALDESC:Events for Leeds for Change
BEGIN:VEVENT
DTSTART;TZID=UTC+0:20181129T093000
DTEND;TZID=UTC+0:20181129T110000
DTSTAMP:20260423T024656
CREATED:20181126T155009Z
LAST-MODIFIED:20181126T155009Z
UID:11323-1543483800-1543489200@leedsforchange.org.uk
SUMMARY:English Language Cafe
DESCRIPTION:Want to improve your English? Come along to a relaxed coffee morning to practice and learn English. Free tea and coffee\, toast and spread for 50p.\nParent with children welcome. \n
URL:https://leedsforchange.org.uk/event/english-language-cafe/2018-11-29/
LOCATION:197 Woodhouse Street\, Leeds\, LS6 2NY\, United Kingdom
GEO:53.8141643;-1.5555974
X-APPLE-STRUCTURED-LOCATION;VALUE=URI;X-ADDRESS=197 Woodhouse Street Leeds LS6 2NY United Kingdom;X-APPLE-RADIUS=500;X-TITLE=197 Woodhouse Street:geo:-1.5555974,53.8141643
ATTACH;FMTTYPE=image/png:https://leedsforchange.org.uk/assets/uploads/2015/11/Oblong-logo.png
END:VEVENT
END:VCALENDAR