BEGIN:VCALENDAR
VERSION:2.0
PRODID:-//Leeds for Change - ECPv4.6.15//NONSGML v1.0//EN
CALSCALE:GREGORIAN
METHOD:PUBLISH
X-WR-CALNAME:Leeds for Change
X-ORIGINAL-URL:https://leedsforchange.org.uk
X-WR-CALDESC:Events for Leeds for Change
BEGIN:VEVENT
DTSTART;TZID=UTC+0:20190905T183000
DTEND;TZID=UTC+0:20190905T210000
DTSTAMP:20260425T151404
CREATED:20190717T181626Z
LAST-MODIFIED:20190717T181626Z
UID:14155-1567704600-1567713600@leedsforchange.org.uk
SUMMARY:Ed Miliband on Climate Justice
DESCRIPTION:Join Leeds West Labour Party in the barn at TCV Hollybush in Kirkstall for this exciting public speaking event\, chaired by our MP\, Rachel Reeves and featuring MPs Ed Miliband and Alex Sobel\, Cllr Neil Walshaw and others. \nWhat’s happening now in Leeds\, the UK and the wider world; what should happen next and what can we do? Come along\, ask your questions and find out. \nTickets £8.00 from Eventbrite – please note that due to limited capacity at the venue\, it is essential that you purchase tickets in advance. If the price is a barrier to attending\, please contact Andy Rontree on 07733 206373. \nAnd yes\, of course there will be a raffle – bring £1 for the chance to win sustainable prizes! \n
URL:https://leedsforchange.org.uk/event/ed-miliband-on-climate-justice/
LOCATION:Hollybush Conservation Centre\, Broad Lane\, Kirkstall\,\, Leeds\, west Yorkshire\, LS5 3BP\, United Kingdom
GEO:53.8156797;-1.6079639
X-APPLE-STRUCTURED-LOCATION;VALUE=URI;X-ADDRESS=Hollybush Conservation Centre Broad Lane Kirkstall Leeds west Yorkshire LS5 3BP United Kingdom;X-APPLE-RADIUS=500;X-TITLE=Hollybush Conservation Centre\, Broad Lane\, Kirkstall\,:geo:-1.6079639,53.8156797
ATTACH;FMTTYPE=image/jpeg:https://leedsforchange.org.uk/assets/uploads/2019/07/Ed-Milliband.jpg
END:VEVENT
END:VCALENDAR