BEGIN:VCALENDAR
VERSION:2.0
PRODID:-//Leeds for Change - ECPv4.6.15//NONSGML v1.0//EN
CALSCALE:GREGORIAN
METHOD:PUBLISH
X-WR-CALNAME:Leeds for Change
X-ORIGINAL-URL:https://leedsforchange.org.uk
X-WR-CALDESC:Events for Leeds for Change
BEGIN:VEVENT
DTSTART;TZID=UTC+0:20171125T100000
DTEND;TZID=UTC+0:20171125T100000
DTSTAMP:20260423T074236
CREATED:20171124T104439Z
LAST-MODIFIED:20171124T104439Z
UID:7265-1511604000-1511604000@leedsforchange.org.uk
SUMMARY:Door-to-door leafleting in East End Park
DESCRIPTION:We will be out raising awareness about Knostrop and fracking wastewater by leafleting door-to-door. \nTime and exact location will be announced in due course but please put the date in your diary and join us! \n
URL:https://leedsforchange.org.uk/event/door-to-door-leafleting-in-east-end-park/
ATTACH;FMTTYPE=image/jpeg:https://leedsforchange.org.uk/assets/uploads/2017/11/facebook_event_129898671029529.jpg
END:VEVENT
END:VCALENDAR