BEGIN:VCALENDAR
VERSION:2.0
PRODID:-//Leeds for Change - ECPv4.6.15//NONSGML v1.0//EN
CALSCALE:GREGORIAN
METHOD:PUBLISH
X-WR-CALNAME:Leeds for Change
X-ORIGINAL-URL:https://leedsforchange.org.uk
X-WR-CALDESC:Events for Leeds for Change
BEGIN:VEVENT
DTSTART;TZID=UTC+0:20181113T193000
DTEND;TZID=UTC+0:20181113T210000
DTSTAMP:20260422T141008
CREATED:20181107T180405Z
LAST-MODIFIED:20181107T180405Z
UID:11082-1542137400-1542142800@leedsforchange.org.uk
SUMMARY:Discussion: Building Bridges for Peace with Jo Berry & Pat Magee
DESCRIPTION:In 1984\, the IRA bombed the Conservative Party Conference in Brighton\, killing five people\, including Jo Berry’s father. Pat Magee was later imprisoned for planting the bomb. In an incredible feat of human forgiveness and reconciliation\, they now work together to promote peace and conflict resolution throughout the world. \nThis powerful talk is part of a series of events at Left Bank Leeds exploring conflict transformation. Please see our other listings for details. \nPlease note the doors will open 30 minutes in advance of this event. Tickets cost slightly more on the door – book in advance for the cheapest price. \n
URL:https://leedsforchange.org.uk/event/discussion-building-bridges-for-peace-with-jo-berry-pat-magee/
ATTACH;FMTTYPE=image/jpeg:https://leedsforchange.org.uk/assets/uploads/2018/11/templates-for-banners-bridges.jpg
END:VEVENT
END:VCALENDAR