BEGIN:VCALENDAR
VERSION:2.0
PRODID:-//Leeds for Change - ECPv4.6.15//NONSGML v1.0//EN
CALSCALE:GREGORIAN
METHOD:PUBLISH
X-WR-CALNAME:Leeds for Change
X-ORIGINAL-URL:https://leedsforchange.org.uk
X-WR-CALDESC:Events for Leeds for Change
BEGIN:VEVENT
DTSTART;TZID=UTC+0:20200517T150000
DTEND;TZID=UTC+0:20200517T160000
DTSTAMP:20260419T180104
CREATED:20200515T161357Z
LAST-MODIFIED:20200515T161357Z
UID:16986-1589724000-1589727600@leedsforchange.org.uk
SUMMARY:Disability in the time of crisis
DESCRIPTION:Dear friends\, \nYou are invited to join Left Unity’s zoom meeting this Sunday at 3 pm led by two prominent disabled activists. \nTopic: Disability in the time of crisis\nTime: May 17\, 2020 03:00 PM \nJoin Zoom Meeting\nhttps://us02web.zoom.us/j/84427114911?pwd=QVdzSERJbnkybEgwVFZwNkxaS3VwZz09 \nMeeting ID: 844 2711 4911 \nPassword: 013558 \n
URL:https://leedsforchange.org.uk/event/disability-in-the-time-of-crisis/
ATTACH;FMTTYPE=image/jpeg:https://leedsforchange.org.uk/assets/uploads/2020/02/1097627_419077101536709_464819561_o.jpg
END:VEVENT
END:VCALENDAR