BEGIN:VCALENDAR
VERSION:2.0
PRODID:-//Leeds for Change - ECPv4.6.15//NONSGML v1.0//EN
CALSCALE:GREGORIAN
METHOD:PUBLISH
X-WR-CALNAME:Leeds for Change
X-ORIGINAL-URL:https://leedsforchange.org.uk
X-WR-CALDESC:Events for Leeds for Change
BEGIN:VEVENT
DTSTART;TZID=UTC+0:20190201T184500
DTEND;TZID=UTC+0:20190201T213000
DTSTAMP:20260422T122849
CREATED:20190126T100403Z
LAST-MODIFIED:20190126T101609Z
UID:12216-1549046700-1549056600@leedsforchange.org.uk
SUMMARY:Devolution & the Labour Movement with Arianna Giovannini
DESCRIPTION:What is devolution\, and what does it mean for the Labour movement? The Yorkshire region has significant economic\, social\, and cultural capital. The UK has seen different forms of devolution\, such as the Scottish and Welsh Assemblies. \nBut what can a radical devolution mean for Yorkshire and can it facilitate socialist change? There is often a lack of grassroots debate about what devolution means. Leeds Central CLP have organised this to give people a chance to hear and discuss the current model of devolution being proposed\, and how the Labour movement can influence the debate. \nSpeakers: Arianna Giovannini\, lecturer in Local Politics at De Montfort University\, Simon Jose\, and leader of the Leeds City Council Labour Group Judith Blake. \nEntry is free\, but donations will be taken for the Labour Party and the RMT. \n
URL:https://leedsforchange.org.uk/event/devolution-the-labour-movement-with-arianna-giovannini/
LOCATION:Admiral Street\, Leeds\, LS11 5NG
GEO:53.7816429;-1.544154
X-APPLE-STRUCTURED-LOCATION;VALUE=URI;X-ADDRESS=Admiral Street Leeds LS11 5NG;X-APPLE-RADIUS=500;X-TITLE=Admiral Street:geo:-1.544154,53.7816429
ATTACH;FMTTYPE=image/jpeg:https://leedsforchange.org.uk/assets/uploads/2019/01/devo.jpg
ORGANIZER;CN="Leeds%20Central%20CLP":MAILTO:leedscentralsec@gmail.com
END:VEVENT
END:VCALENDAR