BEGIN:VCALENDAR
VERSION:2.0
PRODID:-//Leeds for Change - ECPv4.6.15//NONSGML v1.0//EN
CALSCALE:GREGORIAN
METHOD:PUBLISH
X-WR-CALNAME:Leeds for Change
X-ORIGINAL-URL:https://leedsforchange.org.uk
X-WR-CALDESC:Events for Leeds for Change
BEGIN:VEVENT
DTSTART;TZID=UTC+0:20200627T190000
DTEND;TZID=UTC+0:20200627T200000
DTSTAMP:20260420T063653
CREATED:20200626T120653Z
LAST-MODIFIED:20200626T120653Z
UID:17339-1593280800-1593284400@leedsforchange.org.uk
SUMMARY:Delightful City - Leeds (hosted by Playful Anywhere)
DESCRIPTION:\nAn evening of discussion led by Playful Anywhere\, with support from Engage Liverpool and Wordscape. \nFor this\, the second event in a two-part series\, we’re delighted to invite a panel of four inspiring Leeds speakers: \n\n\n\nThere will be an opportunity for participants to ask questions and raise issues with the panellists and the whole event will be additionally live-streamed via Facebook for those who don’t want to use the Zoom platform. \n\n
URL:https://leedsforchange.org.uk/event/delightful-city-leeds-hosted-by-playful-anywhere/
ATTACH;FMTTYPE=image/png:https://leedsforchange.org.uk/assets/uploads/2020/06/engage-news-header-leeds.png
END:VEVENT
END:VCALENDAR