BEGIN:VCALENDAR
VERSION:2.0
PRODID:-//Leeds for Change - ECPv4.6.15//NONSGML v1.0//EN
CALSCALE:GREGORIAN
METHOD:PUBLISH
X-WR-CALNAME:Leeds for Change
X-ORIGINAL-URL:https://leedsforchange.org.uk
X-WR-CALDESC:Events for Leeds for Change
BEGIN:VEVENT
DTSTART;TZID=UTC+0:20190320T144500
DTEND;TZID=UTC+0:20190320T154500
DTSTAMP:20260421T062942
CREATED:20181221T111801Z
LAST-MODIFIED:20181221T111801Z
UID:11567-1553093100-1553096700@leedsforchange.org.uk
SUMMARY:Danger Zone Talk: How Things Have Changed
DESCRIPTION:*BOOKING ESSENTIAL* \nDrawing on the photographic archive of Aireborough Historical Society\, this talk (sometimes serious\, sometimes humourous)\, looks back on just how things have changed over the years\, including attitudes to- and a total disregard at times for – health and safety. Audience participation\, memories and comments are very welcome. \nWith Carlo Harrison (Aireborough Historical Society). \nA talk to tie in with Abbey House Museum’s 2019 exhibition\, ‘Danger Zone’. https://www.leeds.gov.uk/dangerzone \nPlease book your place in advance (pay on the day). Talk is £5.50 including admission to the rest of the museum. A hot beverage is included.\nE: abbey.house@leeds.gov.uk\nT: 0113 3784079 \nCover image © Leeds Museums and Galleries \nVenue address: \n\n\n\n\n\npin\n\n\n\n\n\n\n\n\n\nAbbey House Museum \nAbbey Walk Kirkstall Leeds\, LS5 3EH Leeds\n\n\n\n\n\n\n\n\n\n
URL:https://leedsforchange.org.uk/event/danger-zone-talk-how-things-have-changed/
LOCATION:Abbey Walk\, Kirkstall Leeds\, LS5 3EH
GEO:53.8225116;-1.6068237
X-APPLE-STRUCTURED-LOCATION;VALUE=URI;X-ADDRESS=Abbey Walk Kirkstall Leeds LS5 3EH;X-APPLE-RADIUS=500;X-TITLE=Abbey Walk\, Kirkstall Leeds:geo:-1.6068237,53.8225116
ATTACH;FMTTYPE=image/jpeg:https://leedsforchange.org.uk/assets/uploads/2018/12/roof.jpg
END:VEVENT
END:VCALENDAR