BEGIN:VCALENDAR
VERSION:2.0
PRODID:-//Leeds for Change - ECPv4.6.15//NONSGML v1.0//EN
CALSCALE:GREGORIAN
METHOD:PUBLISH
X-WR-CALNAME:Leeds for Change
X-ORIGINAL-URL:https://leedsforchange.org.uk
X-WR-CALDESC:Events for Leeds for Change
BEGIN:VEVENT
DTSTART;TZID=UTC+0:20200622T190000
DTEND;TZID=UTC+0:20200622T203000
DTSTAMP:20260422T132223
CREATED:20200612T194246Z
LAST-MODIFIED:20200612T202750Z
UID:17202-1592848800-1592854200@leedsforchange.org.uk
SUMMARY:Covid and Climate: Green Jobs and Leeds Bradford Airport (by Leeds NE and NW Labour\, the Green Party\, and GALBA)
DESCRIPTION:Leeds NE and NW Labour Parties\, the Green Party and GALBA invite you to an online meeting on Monday June 22 at 7pm. \nTOPIC:\nComing out of Covid-19\, the Green New Deal and the proposed expansion of Leeds Bradford Airport. \nWhen we emerge from the Covid-19 pandemic\, how can we ensure we do not return to the ‘old normal’ but instead put the climate emergency and the Green New Deal at the heart of rebuilding our economy and society?\nThis raises crucial questions regarding work\, jobs\, skills and technology and will involve difficult choices. For example\, can we continue to increase aviation with particular reference to the proposed expansion of Leeds Bradford airport? What steps can we take now to influence these issues? \nSPEAKERS:\nSuzanne Jeffery – Chair of the Campaign against Climate Change (CCC) and Chair of the CCC Trade Union Group.\nTim Goodall – Coordinator of Headingley Green Party\, GALBA committee member and Branch Secretary of The University of Leeds UCU.\nAlex Sobel – MP\, Leeds North West.\nHilary Wainwright – Writer\, campaigner and activist\, founder of Red Pepper magazine. \nThis is a FREE open meeting and we hope all who are interested in these crucial issues will register and participate. \n
URL:https://leedsforchange.org.uk/event/covid-and-climate-green-jobs-and-leeds-bradford-airport-by-leeds-ne-and-nw-labour-the-green-party-and-galba/
ATTACH;FMTTYPE=image/jpeg:https://leedsforchange.org.uk/assets/uploads/2020/06/https___cdn.evbuc_.com_images_103222322_48588104464_1_original.jpeg
END:VEVENT
END:VCALENDAR