BEGIN:VCALENDAR
VERSION:2.0
PRODID:-//Leeds for Change - ECPv4.6.15//NONSGML v1.0//EN
CALSCALE:GREGORIAN
METHOD:PUBLISH
X-WR-CALNAME:Leeds for Change
X-ORIGINAL-URL:https://leedsforchange.org.uk
X-WR-CALDESC:Events for Leeds for Change
BEGIN:VEVENT
DTSTART;TZID=UTC+0:20190323T140000
DTEND;TZID=UTC+0:20190323T160000
DTSTAMP:20260423T230433
CREATED:20190317T150631Z
LAST-MODIFIED:20190317T150631Z
UID:13056-1553349600-1553356800@leedsforchange.org.uk
SUMMARY:Constituency Campaign Day
DESCRIPTION:Join us for our March Constituency Campaign day! \nWe’ll be bringing activists together from all over Leeds Central for campaigning in Hunslet and Riverside to talk about Labours plans for Leeds and the country. \nMeet us outside Tesco Express\, Dewsbury road at 2pm.\nNo previous experience necessary! \nSee you there! \nhttps://events.labour.org.uk/event/266984 \n
URL:https://leedsforchange.org.uk/event/constituency-campaign-day/
ATTACH;FMTTYPE=image/jpeg:https://leedsforchange.org.uk/assets/uploads/2019/03/Labou.jpg
END:VEVENT
END:VCALENDAR