BEGIN:VCALENDAR
VERSION:2.0
PRODID:-//Leeds for Change - ECPv4.6.15//NONSGML v1.0//EN
CALSCALE:GREGORIAN
METHOD:PUBLISH
X-WR-CALNAME:Leeds for Change
X-ORIGINAL-URL:https://leedsforchange.org.uk
X-WR-CALDESC:Events for Leeds for Change
BEGIN:VEVENT
DTSTART;TZID=UTC+0:20190128T103000
DTEND;TZID=UTC+0:20190128T123000
DTSTAMP:20260421T121913
CREATED:20181221T115540Z
LAST-MODIFIED:20181221T115540Z
UID:11664-1548671400-1548678600@leedsforchange.org.uk
SUMMARY:Consent Conversations: building consent culture in the arts
DESCRIPTION:Irregular Arts invite you to take part in an important discussion. This event is for artists\, producers\, and arts professionals – if you are interested in attending please email jenny@irregulararts.com \nTogether with artists\, producers and collaborators outside the sector\, Irregular Arts has been facilitating conversations about consent – about what it means to specific individuals and groups and how artists and arts organisations can be part of building a culture of consent. \nAfter the 2017 revelations that led to the global awareness-raising of #metoowe ask ourselves how much or how little has changed and what we can do to change things? \nAs artists and activists\, we use our practice to engage and challenge\, to encourage participation and to provoke. \nBut whose permission do we seek and whose consent do we need? \nAnd who are we talking to? Who is listening? \nHow do we consider the consent of our funders\, our partners\, our fellow-artists\, our participants and our audiences when we devise and create our work? \nA panel of selected arts professionals will present and discuss their approaches to consent in their practice. \nTogether we will discuss our sphere of influence\, explore how we can challenge entitlement and privilege\, and work together to create a manifesto for change. \nJoin us in launching a movement for change\, building consensus and championing a culture of consent in the arts. \n
URL:https://leedsforchange.org.uk/event/consent-conversations-building-consent-culture-in-the-arts/
LOCATION:3 Saint Peter's Square\, LS9 8AH
GEO:53.7969527;-1.5332247
X-APPLE-STRUCTURED-LOCATION;VALUE=URI;X-ADDRESS=3 Saint Peter's Square LS9 8AH;X-APPLE-RADIUS=500;X-TITLE=3 Saint Peter's Square:geo:-1.5332247,53.7969527
ATTACH;FMTTYPE=image/jpeg:https://leedsforchange.org.uk/assets/uploads/2018/12/Consent.jpg
END:VEVENT
END:VCALENDAR