BEGIN:VCALENDAR
VERSION:2.0
PRODID:-//Leeds for Change - ECPv4.6.15//NONSGML v1.0//EN
CALSCALE:GREGORIAN
METHOD:PUBLISH
X-WR-CALNAME:Leeds for Change
X-ORIGINAL-URL:https://leedsforchange.org.uk
X-WR-CALDESC:Events for Leeds for Change
BEGIN:VEVENT
DTSTART;TZID=UTC+0:20181213T190000
DTEND;TZID=UTC+0:20181213T203000
DTSTAMP:20260422T021431
CREATED:20181126T154852Z
LAST-MODIFIED:20181126T154852Z
UID:11321-1544727600-1544733000@leedsforchange.org.uk
SUMMARY:Community Conversation Dinner
DESCRIPTION:Come get to know your neighbours and the community over tasty home cooked food at Woodhouse Community Centre. Everyone welcome\, family friendly. If you are bringing kids let us know so we can set up the play area. If anyone has special food requirements let us know.\nHalal and vegan options. Get in touch if you want to be involved!\n
URL:https://leedsforchange.org.uk/event/community-conversation-dinner/
LOCATION:197 Woodhouse Street\, Leeds\, LS6 2NY\, United Kingdom
GEO:53.8141643;-1.5555974
X-APPLE-STRUCTURED-LOCATION;VALUE=URI;X-ADDRESS=197 Woodhouse Street Leeds LS6 2NY United Kingdom;X-APPLE-RADIUS=500;X-TITLE=197 Woodhouse Street:geo:-1.5555974,53.8141643
ATTACH;FMTTYPE=image/png:https://leedsforchange.org.uk/assets/uploads/2015/11/Oblong-logo.png
END:VEVENT
END:VCALENDAR