BEGIN:VCALENDAR
VERSION:2.0
PRODID:-//Leeds for Change - ECPv4.6.15//NONSGML v1.0//EN
CALSCALE:GREGORIAN
METHOD:PUBLISH
X-WR-CALNAME:Leeds for Change
X-ORIGINAL-URL:https://leedsforchange.org.uk
X-WR-CALDESC:Events for Leeds for Change
BEGIN:VEVENT
DTSTART;TZID=UTC+0:20181020T070000
DTEND;TZID=UTC+0:20181020T220000
DTSTAMP:20260424T080954
CREATED:20180927T170134Z
LAST-MODIFIED:20180927T170134Z
UID:10714-1540015200-1540069200@leedsforchange.org.uk
SUMMARY:Coach from Leeds to London for the People's Vote March for the Future
DESCRIPTION:The People’s Vote March for the Future is taking place in London on Saturday 20th October. \nOn 23rd June 2018\, over 200\,000 people from all walks of life descended on Parliament to demand a People’s Vote on the final Brexit deal. \nThe crisis around Brexit deal is only going to get bigger. So our next protest has to be bigger and better. If our march is big enough and our voice loud enough\, our MPs will have to take notice. \nWe\, the people\, demand a vote on the final Brexit deal. Join us on October 20\, 2018 to make your voice heard. \nLeeds for Europe are organising coach travel to and from this crucial event. Leaving Leeds at 7am\, we will deliver you near to the march assembly point for the 12 noon assembly time. After the march and rally you will be picked up and returned to Leeds\, returning by around 10pm\, traffic permitting. \nFor more information\, and to sign up for updates\, visit:\nwww.leedsforeurope.org/contact \nTo join Leeds for Europe\, go to:\nwww.leedsforeurope.org/join \n
URL:https://leedsforchange.org.uk/event/coach-from-leeds-to-london-for-the-peoples-vote-march-for-the-future/
LOCATION:Leeds\, LS1 5DT
GEO:53.7951435;-1.5466644
ATTACH;FMTTYPE=image/jpeg:https://leedsforchange.org.uk/assets/uploads/2018/09/Europe.jpg
END:VEVENT
END:VCALENDAR