BEGIN:VCALENDAR
VERSION:2.0
PRODID:-//Leeds for Change - ECPv4.6.15//NONSGML v1.0//EN
CALSCALE:GREGORIAN
METHOD:PUBLISH
X-WR-CALNAME:Leeds for Change
X-ORIGINAL-URL:https://leedsforchange.org.uk
X-WR-CALDESC:Events for Leeds for Change
BEGIN:VEVENT
DTSTART;TZID=UTC+0:20190922T123000
DTEND;TZID=UTC+0:20190922T160000
DTSTAMP:20260424T155717
CREATED:20190828T133748Z
LAST-MODIFIED:20190828T133748Z
UID:14521-1569151800-1569164400@leedsforchange.org.uk
SUMMARY:Car Free Day
DESCRIPTION:World Car Free Day on Sunday September 22nd provides an opportunity to people to experience the benefits of living without the pollution \, noise and congestion of traffic on the roads. \nZero Carbon Headingley is holding a car free street fair on North Lane to celebrate. \nThe street fair will include stalls from a wide range of environmental groups and local community groups as well as attractions for children and food stalls. The aim is to increase awareness of the benefits of reducing private car and HGV use in Headingley\, both to local people and to a wider audience through effective publicity of the event. \nCarbon emissions from transport now account for one third of all UK emissions (BEIS figures for 2018) and the related impact of poor air quality on health is an increasing concern. It is well known that air pollution on the A660 in Headingley is high\, with the monitored Air Quality Index generally showing a higher level of particulates than in the city centre. This street fair will help increase public awareness of the need to reduce private car use in the city and the many benefits of reduced road traffic. \nZero Carbon Headingley is a non-profit making campaign group supported by Headingley Development Trust and Zero Carbon Yorkshire. \n
URL:https://leedsforchange.org.uk/event/car-free-day/
ATTACH;FMTTYPE=image/jpeg:https://leedsforchange.org.uk/assets/uploads/2019/08/69316088_374665636541333_4119449252675977216_o.jpg
END:VEVENT
END:VCALENDAR