BEGIN:VCALENDAR
VERSION:2.0
PRODID:-//Leeds for Change - ECPv4.6.15//NONSGML v1.0//EN
CALSCALE:GREGORIAN
METHOD:PUBLISH
X-WR-CALNAME:Leeds for Change
X-ORIGINAL-URL:https://leedsforchange.org.uk
X-WR-CALDESC:Events for Leeds for Change
BEGIN:VEVENT
DTSTART;TZID=UTC+0:20190727T100000
DTEND;TZID=UTC+0:20190727T140000
DTSTAMP:20260421T091313
CREATED:20190717T183009Z
LAST-MODIFIED:20190717T183009Z
UID:14189-1564218000-1564232400@leedsforchange.org.uk
SUMMARY:Building a people-powered movement to create Our Future Leeds
DESCRIPTION:Come and join us for thinking\, planning\, and positive action to co-create Our Future Leeds – a sustainable\, liveable\, socially just city. \nThere will be participatory planning sessions on:\n* 100 ideas to create Our Future Leeds\n* Tackling the Climate and Ecological Emergency in a world obsessed with growth\n* A People’s Plan for Zero Carbon transport in Leeds\n* How do we make this everyone’s movement? \nGet involved and make a difference! \nSaturday\, 27th July. 10am – 2pm\nOld Bridge Street Church\nBridge St\, Leeds LS2 7QZ (Near John Lewis) \nAll welcome. No experience required! No need to register\nBring vegetarian food to share for lunch if you are able. \nW: www.ourfutureleeds.org\nE: ourfutureleeds@gmail.com \n
URL:https://leedsforchange.org.uk/event/building-a-people-powered-movement-to-create-our-future-leeds/
LOCATION:Bridge Street\, Leeds\, LS2 7QZ\, United Kingdom
GEO:53.7995991;-1.5363278
X-APPLE-STRUCTURED-LOCATION;VALUE=URI;X-ADDRESS=Bridge Street Leeds LS2 7QZ United Kingdom;X-APPLE-RADIUS=500;X-TITLE=Bridge Street:geo:-1.5363278,53.7995991
ATTACH;FMTTYPE=image/jpeg:https://leedsforchange.org.uk/assets/uploads/2019/07/This-is-an-Emergency.jpg
END:VEVENT
END:VCALENDAR