BEGIN:VCALENDAR
VERSION:2.0
PRODID:-//Leeds for Change - ECPv4.6.15//NONSGML v1.0//EN
CALSCALE:GREGORIAN
METHOD:PUBLISH
X-WR-CALNAME:Leeds for Change
X-ORIGINAL-URL:https://leedsforchange.org.uk
X-WR-CALDESC:Events for Leeds for Change
BEGIN:VEVENT
DTSTART;TZID=UTC+0:20181119T193000
DTEND;TZID=UTC+0:20181119T210000
DTSTAMP:20260422T170917
CREATED:20180924T103625Z
LAST-MODIFIED:20180924T103625Z
UID:10658-1542655800-1542661200@leedsforchange.org.uk
SUMMARY:Building a new Britain - Owen Jones in Leeds
DESCRIPTION:Hosted by Owen Jones \n‘I’m coming to Leeds to talk about how we can build a Britain free of injustice\, run in the interests of the majority\, not the vested interests who keep plunging the country into crisis. If we don’t succeed – the extreme right threaten to overwhelm us all. \nYou can get tickets here: https://www.leedstownhall.co.uk/whats-on/talk/owen-jones-building-a-new-britain/4196 \nSee you there! \nOwen’ \nOwen Jones give a speech during the March for Europe rally in Parliament Square\, London to show support for the European Union in the wake of Brexit. \n
URL:https://leedsforchange.org.uk/event/building-a-new-britain-owen-jones-in-leeds/
LOCATION:Leeds Town Hall\, The Headrow\, Leeds\, West Yorkshire\, LS1 3AD\, United Kingdom
GEO:53.800255;-1.549668
X-APPLE-STRUCTURED-LOCATION;VALUE=URI;X-ADDRESS=Leeds Town Hall The Headrow Leeds West Yorkshire LS1 3AD United Kingdom;X-APPLE-RADIUS=500;X-TITLE=Leeds Town Hall\, The Headrow:geo:-1.549668,53.800255
ATTACH;FMTTYPE=image/jpeg:https://leedsforchange.org.uk/assets/uploads/2018/09/57a6fa892a00002d004f8cbc.jpeg
END:VEVENT
END:VCALENDAR