BEGIN:VCALENDAR
VERSION:2.0
PRODID:-//Leeds for Change - ECPv4.6.15//NONSGML v1.0//EN
CALSCALE:GREGORIAN
METHOD:PUBLISH
X-WR-CALNAME:Leeds for Change
X-ORIGINAL-URL:https://leedsforchange.org.uk
X-WR-CALDESC:Events for Leeds for Change
BEGIN:VEVENT
DTSTART;TZID=UTC+0:20190226T170000
DTEND;TZID=UTC+0:20190226T190000
DTSTAMP:20260420T054234
CREATED:20190112T215118Z
LAST-MODIFIED:20190112T215118Z
UID:12036-1551200400-1551207600@leedsforchange.org.uk
SUMMARY:Borderlines
DESCRIPTION:CALLING ALL WOMEN AGE 16 – 30! Studio12 are working in partnership with Khadijah Ibrahiim\, Leeds Young Authors and Boomsatsuma on an exciting new transnational project… The worlds largest online exhibition of spoken word! What’s in store? You will receive opportunities to express your views and develop your spoken word with established activist\, playwright and poet Khadijah Ibrahiim\, as well as showcase your work in the exhibition! \n“As the world becomes more divided and countries fall into isolation it is vital that our young people raise their voices in support of global unity. Borderlines offers the perfect opportunity for young people across the UK and Europe to connect\, consider the meaning of the word ‘borders’\, and to discuss how they affect them in their personal\, public and political lives. Working with a team of prominent UK poets and spoken word artists\, the international exchange of voices has begun.” – Joelle Taylor\, Artistic Director \nThree sessions at Leeds Central Library (room TBC): \nMon. Jan. 21st\, Tues. Feb. 5\, Tues. Feb. 26 (5:00 – 7:00pm) \nYou will need a ticket for each date\, and can only book tickets for yourself. \nTo express your interest in joining the project email: studio12@leeds.gov.uk  \nPlease prepare for the first session a poem or idea that relates to borders: \nDo borders affect you personally\, publicly or politically? \nDo they affect your sense of belonging? \nAre borders affected by austerity or ethnicity? \nPlease also bring any existing poetry you may have to share. \nPlease note: We use an inclusive definition of ‘women’ and ‘female’\, welcoming participants who may identify as non-binary\, cis-gendered\, or trans. \nVenue address: Leeds Central Library\, Calverley Street\, Leeds\, LS1 3AB \nVenue website: https://www.leeds.gov.uk/leisure/libraries/central-library \nVenue phone number: 0113 378 5005 \nVenue email: libraryenquiries@leeds.gov.uk \n
URL:https://leedsforchange.org.uk/event/borderlines-2/
LOCATION:Leeds Central Library\, Leeds\, West-Yorkshire\, LS1 2\, United Kingdom
GEO:53.800185;-1.548642
X-APPLE-STRUCTURED-LOCATION;VALUE=URI;X-ADDRESS=Leeds Central Library Leeds West-Yorkshire LS1 2 United Kingdom;X-APPLE-RADIUS=500;X-TITLE=Leeds Central Library:geo:-1.548642,53.800185
ATTACH;FMTTYPE=image/jpeg:https://leedsforchange.org.uk/assets/uploads/2019/01/borderlines-2.jpe
END:VEVENT
END:VCALENDAR