BEGIN:VCALENDAR
VERSION:2.0
PRODID:-//Leeds for Change - ECPv4.6.15//NONSGML v1.0//EN
CALSCALE:GREGORIAN
METHOD:PUBLISH
X-WR-CALNAME:Leeds for Change
X-ORIGINAL-URL:https://leedsforchange.org.uk
X-WR-CALDESC:Events for Leeds for Change
BEGIN:VEVENT
DTSTART;TZID=UTC+0:20200621T140000
DTEND;TZID=UTC+0:20200621T160000
DTSTAMP:20260422T170150
CREATED:20200612T193248Z
LAST-MODIFIED:20200612T195512Z
UID:17192-1592744400-1592751600@leedsforchange.org.uk
SUMMARY:Socially Distanced Peaceful Demonstration (by Black Lives Matter Leeds)
DESCRIPTION:Join us as we unite to educate\, heal and express ourselves collectively this Sunday 21st at 2pm. \nThis event will be entirely social distanced. Our team has been working tirelessly to ensure that necessary health and safety precautions regarding COVID19 will be adhered to. \nMore information on exactly how this is going to work will be provided in the coming hours and days via our social media platforms. \nEntrance: 13.30\nStart Time: 14.00\nEnd Time: 16.00 \n
URL:https://leedsforchange.org.uk/event/blm-leeds-socially-distanced-peaceful-demonstration-by-black-lives-matter-leeds/
ATTACH;FMTTYPE=image/jpeg:https://leedsforchange.org.uk/assets/uploads/2020/06/103928412_4498169126875516_6596645829025544982_o.jpg
END:VEVENT
END:VCALENDAR