BEGIN:VCALENDAR
VERSION:2.0
PRODID:-//Leeds for Change - ECPv4.6.15//NONSGML v1.0//EN
CALSCALE:GREGORIAN
METHOD:PUBLISH
X-WR-CALNAME:Leeds for Change
X-ORIGINAL-URL:https://leedsforchange.org.uk
X-WR-CALDESC:Events for Leeds for Change
BEGIN:VEVENT
DTSTART;TZID=UTC+0:20200627T110000
DTEND;TZID=UTC+0:20200627T130000
DTSTAMP:20260420T081440
CREATED:20200626T121654Z
LAST-MODIFIED:20200626T121706Z
UID:17349-1593252000-1593259200@leedsforchange.org.uk
SUMMARY:Alternative ways to decarbonise our heating systems (by Leeds TUC)
DESCRIPTION:The first of a series of meetings on the theme “How can trade unions help create a low-carbon Yorkshire & Humberside?” organised by Leeds TUC’s Environmental sub-committee. \nLink to join is below. \nWe look at the different “climate” technologies on the table and what drives the choice of pathways to a low carbon economy; the potential for decent sustainable unionised climate jobs; and the struggle for worker participation and democratic ownership and control of key sectors for the benefit of workers\, communities and future generations. \nSession one looks at the different options for space heating/domestic heating\, considering the uses\, advantages and disadvantages of different technologies\, how they can be implemented\, what they mean for workers and residents\, and how they fit into the overall picture. \nConfirmed speakers are:\nDr Les Levidow (Senior Research Fellow at the Open University)\nSam Mason (Policy Officer at PCS union)\nMike Childs (Head of Science\, Policy and Research at Friends of the Earth)\nDr Tom Knowland\, Head of Sustainable Energy and Climate Change at Leeds City Council\nSpeakers from UNISON and GMB have been invited \nFormat – brief presentations from each of the invited speakers\, followed by Q+A and comments from attendees and brief responses from panellists\, and ending with a key response to the discussion and summary of main themes from each speaker. \nMeeting will be held on Zoom\nPlease click the link below to join the webinar:\nhttps://us02web.zoom.us/j/83708600673?pwd=RjMvVVNWendEbkl3YTVkS3dhU0xoUT09\nPassword: 695586 \nOr iPhone one-tap :\nUnited Kingdom: +442034815240\,\,83708600673#\,\,1#\,695586# or +441314601196\,\,83708600673#\,\,1#\,695586#\nOr Telephone:\nDial(for higher quality\, dial a number based on your current location):\nUnited Kingdom: +44 203 481 5240 or +44 131 460 1196 or +44 203 051 2874 or +44 203 481 5237\nUS: +1 346 248 7799 or +1 646 558 8656 or +1 669 900 9128 or +1 253 215 8782 or +1 301 715 8592 or +1 312 626 6799\nWebinar ID: 837 0860 0673\nPassword: 695586\nInternational numbers available:\nhttps://us02web.zoom.us/u/kbfYNRCnKp \n\n\n\n\n\n\n\n\n\n\n
URL:https://leedsforchange.org.uk/event/alternative-ways-to-decarbonise-our-heating-systems/
ATTACH;FMTTYPE=image/jpeg:https://leedsforchange.org.uk/assets/uploads/2020/06/105030887_3660091877339977_699131876975661336_o.jpg
END:VEVENT
END:VCALENDAR