BEGIN:VCALENDAR
VERSION:2.0
PRODID:-//Leeds for Change - ECPv4.6.15//NONSGML v1.0//EN
CALSCALE:GREGORIAN
METHOD:PUBLISH
X-WR-CALNAME:Leeds for Change
X-ORIGINAL-URL:https://leedsforchange.org.uk
X-WR-CALDESC:Events for Leeds for Change
BEGIN:VEVENT
DTSTART;TZID=UTC+1:20180416T190000
DTEND;TZID=UTC+1:20180416T210000
DTSTAMP:20260423T142816
CREATED:20180322T164902Z
LAST-MODIFIED:20180322T164902Z
UID:8890-1523901600-1523908800@leedsforchange.org.uk
SUMMARY:Air Pollution Hustings
DESCRIPTION:This is your opportunity to hear from local election candidates and ask them what they will do to prevent and reduce air pollution in and around Headingley. \n
URL:https://leedsforchange.org.uk/event/air-pollution-hustings/
ATTACH;FMTTYPE=image/jpeg:https://leedsforchange.org.uk/assets/uploads/2018/03/facebook_event_729515324102741.jpg
END:VEVENT
END:VCALENDAR