BEGIN:VCALENDAR
VERSION:2.0
PRODID:-//Leeds for Change - ECPv4.6.15//NONSGML v1.0//EN
CALSCALE:GREGORIAN
METHOD:PUBLISH
X-WR-CALNAME:Leeds for Change
X-ORIGINAL-URL:https://leedsforchange.org.uk
X-WR-CALDESC:Events for Leeds for Change
BEGIN:VEVENT
DTSTART;TZID=UTC+0:20190227T130000
DTEND;TZID=UTC+0:20190227T140000
DTSTAMP:20260420T125312
CREATED:20190225T031143Z
LAST-MODIFIED:20190225T042458Z
UID:12787-1551272400-1551276000@leedsforchange.org.uk
SUMMARY:AIMES Work-in-Progress Session
DESCRIPTION:Presentation and discussion of Dr. Kraetzschmar’s most recent co-authored research on: “We are all Wasatiyyun: The Shifting Sands of Centre Positioning in Egypt’s Early Post-Revolutionary Party Politics” \nAbstract: This paper focuses on a common rhetorical referent in Egyptian public imagery and parlance–that of wasat (center) and its derivatives wasati/wasatiyya (centrist/centrism)–and discusses how it has been appropriated and molded in the sphere of party politics. Inductive in approach\, it examines the rhetorical appropriations of the center ground by party officials\, revealing not only its popularity as a marker of (ideological) self-positioning but its malleability and contextuality. The paper concludes that in Egyptian party politics the center positioning of parties cannot be gauged exclusively from the study of party manifestos and/or expert surveys\, but ought to include contextual analysis of how this and other ideological markers are appropriated and given meaning in elite rhetoric. \nALL WELCOME \n
URL:https://leedsforchange.org.uk/event/aimes-work-in-progress-session/
LOCATION:Michael Sadler Building\, University of Leeds\, LS2 9JT
GEO:53.8070785;-1.5534211
X-APPLE-STRUCTURED-LOCATION;VALUE=URI;X-ADDRESS=Michael Sadler Building University of Leeds LS2 9JT;X-APPLE-RADIUS=500;X-TITLE=Michael Sadler Building\, University of Leeds:geo:-1.5534211,53.8070785
ATTACH;FMTTYPE=image/jpeg:https://leedsforchange.org.uk/assets/uploads/2019/02/52472028_2199239193658891_1994878168573411328_n.jpg
END:VEVENT
END:VCALENDAR